BEGIN:VCALENDAR
VERSION:2.0
PRODID:-//Dayboro Pony Club - ECPv4.8.1//NONSGML v1.0//EN
CALSCALE:GREGORIAN
METHOD:PUBLISH
X-WR-CALNAME:Dayboro Pony Club
X-ORIGINAL-URL:https://dayboroponyclub.com.au
X-WR-CALDESC:Events for Dayboro Pony Club
BEGIN:VEVENT
DTSTART;TZID=Australia/Brisbane:20190310T080000
DTEND;TZID=Australia/Brisbane:20190310T120000
DTSTAMP:20190226T132229
CREATED:20190207T004735Z
LAST-MODIFIED:20190207T004735Z
UID:1291-1552204800-1552219200@dayboroponyclub.com.au
SUMMARY:Muster
DESCRIPTION:Activities will vary according to showground infrastructure progress. \nPlease advise via email: president@dayboroponyclub.com.au OR via Facebook if you are attending. If you have any specific skills you would like to work on let us know. This allows us to plan appropriate activities making it more fun for everyone. \n
URL:https://dayboroponyclub.com.au/event/muster-35/
LOCATION:Dayboro Showgrounds
END:VEVENT
BEGIN:VEVENT
DTSTART;TZID=Australia/Brisbane:20190324T080000
DTEND;TZID=Australia/Brisbane:20190324T120000
DTSTAMP:20190226T132229
CREATED:20190207T004846Z
LAST-MODIFIED:20190207T004846Z
UID:1293-1553414400-1553428800@dayboroponyclub.com.au
SUMMARY:Muster
DESCRIPTION:Activities will vary according to showground infrastructure progress. \nPlease advise via email: president@dayboroponyclub.com.au OR via Facebook if you are attending. If you have any specific skills you would like to work on let us know. This allows us to plan appropriate activities making it more fun for everyone. \n
URL:https://dayboroponyclub.com.au/event/muster-36/
LOCATION:Dayboro Showgrounds
END:VEVENT
BEGIN:VEVENT
DTSTART;TZID=Australia/Brisbane:20190406T120000
DTEND;TZID=Australia/Brisbane:20190406T170000
DTSTAMP:20190226T132229
CREATED:20190207T005155Z
LAST-MODIFIED:20190207T005155Z
UID:1295-1554552000-1554570000@dayboroponyclub.com.au
SUMMARY:Muster
DESCRIPTION:Activities will vary according to showground infrastructure progress. \nPlease advise via email: president@dayboroponyclub.com.au OR via Facebook if you are attending. If you have any specific skills you would like to work on let us know. This allows us to plan appropriate activities making it more fun for everyone. \n
URL:https://dayboroponyclub.com.au/event/muster-37/
LOCATION:Dayboro Showgrounds
END:VEVENT
BEGIN:VEVENT
DTSTART;TZID=Australia/Brisbane:20190428T080000
DTEND;TZID=Australia/Brisbane:20190428T130000
DTSTAMP:20190226T132229
CREATED:20190207T005308Z
LAST-MODIFIED:20190207T005308Z
UID:1297-1556438400-1556456400@dayboroponyclub.com.au
SUMMARY:Muster
DESCRIPTION:Activities will vary according to showground infrastructure progress. \nPlease advise via email: president@dayboroponyclub.com.au OR via Facebook if you are attending. If you have any specific skills you would like to work on let us know. This allows us to plan appropriate activities making it more fun for everyone. \n
URL:https://dayboroponyclub.com.au/event/muster-38/
LOCATION:Dayboro Showgrounds
END:VEVENT
BEGIN:VEVENT
DTSTART;VALUE=DATE:20190505
DTEND;VALUE=DATE:20190506
DTSTAMP:20190226T132229
CREATED:20190207T010250Z
LAST-MODIFIED:20190207T010250Z
UID:1304-1557014400-1557100799@dayboroponyclub.com.au
SUMMARY:Dayboro Rodeo
DESCRIPTION:The first of 2 Dayboro Community events we are involved with.\nThe club runs one of the canteens – overlooking all the action – and it is our major fundraiser for the year.\nPlease look out for details closer to the time; we need all hands on deck including junior riders for selling ice-creams and children’s tattoos etc! \n
URL:https://dayboroponyclub.com.au/event/dayboro-rodeo-4/
END:VEVENT
BEGIN:VEVENT
DTSTART;TZID=Australia/Brisbane:20190525T120000
DTEND;TZID=Australia/Brisbane:20190525T170000
DTSTAMP:20190226T132229
CREATED:20190207T005421Z
LAST-MODIFIED:20190207T005421Z
UID:1299-1558785600-1558803600@dayboroponyclub.com.au
SUMMARY:Muster
DESCRIPTION:Activities will vary according to showground infrastructure progress. \nPlease advise via email: president@dayboroponyclub.com.au OR via Facebook if you are attending. If you have any specific skills you would like to work on let us know. This allows us to plan appropriate activities making it more fun for everyone. \n
URL:https://dayboroponyclub.com.au/event/muster-39/
LOCATION:Dayboro Showgrounds
END:VEVENT
BEGIN:VEVENT
DTSTART;TZID=Australia/Brisbane:20190526T120000
DTEND;TZID=Australia/Brisbane:20190526T140000
DTSTAMP:20190226T132229
CREATED:20190207T010607Z
LAST-MODIFIED:20190207T010607Z
UID:1306-1558872000-1558879200@dayboroponyclub.com.au
SUMMARY:Dayboro Day Raft Race
DESCRIPTION:This event has become a firm favourite!\n4 of our junior riders who nominate will charge up the main street of Dayboro in a waterless raft being cheered on by thousands of people. \n
URL:https://dayboroponyclub.com.au/event/dayboro-day-raft-race/
LOCATION:Dayboro\, Dayboro\, 4521\, Australia
END:VEVENT
BEGIN:VEVENT
DTSTART;TZID=Australia/Brisbane:20190602T080000
DTEND;TZID=Australia/Brisbane:20190602T170000
DTSTAMP:20190226T132229
CREATED:20190207T005947Z
LAST-MODIFIED:20190207T005947Z
UID:1301-1559462400-1559494800@dayboroponyclub.com.au
SUMMARY:Muster at Narangba Pony Club
DESCRIPTION:We have been invited to share a muster at the Narangba Pony Club grounds. \nGreat opportunity to let your ponies see a new environment\, new activities etc. And for us to meet new people too. \nIf you have any issues with transport please email: president@dayboroponyclub.com.au and we will help out as much as we can. \nTIME TBC \n
URL:https://dayboroponyclub.com.au/event/muster-at-narangba-pony-club/
LOCATION:Narangba Pony Club Grounds\, 134\, Callaghan Road\, Narangba
END:VEVENT
BEGIN:VEVENT
DTSTART;TZID=Australia/Brisbane:20190615T120000
DTEND;TZID=Australia/Brisbane:20190615T170000
DTSTAMP:20190226T132229
CREATED:20190207T010720Z
LAST-MODIFIED:20190207T010720Z
UID:1308-1560600000-1560618000@dayboroponyclub.com.au
SUMMARY:Muster
DESCRIPTION:Activities will vary according to showground infrastructure progress. \nPlease advise via email: president@dayboroponyclub.com.au OR via Facebook if you are attending. If you have any specific skills you would like to work on let us know. This allows us to plan appropriate activities making it more fun for everyone. \n
URL:https://dayboroponyclub.com.au/event/muster-40/
LOCATION:Dayboro Showgrounds
END:VEVENT
BEGIN:VEVENT
DTSTART;TZID=Australia/Brisbane:20190630T080000
DTEND;TZID=Australia/Brisbane:20190630T120000
DTSTAMP:20190226T132229
CREATED:20190207T011051Z
LAST-MODIFIED:20190207T011051Z
UID:1310-1561881600-1561896000@dayboroponyclub.com.au
SUMMARY:Dayboro Show Set-up
DESCRIPTION:Our second big community event.\nWe will be setting up the sporting activities\, showjumping ring and 6 Bar ready for the following weekend.\nThere is no truer saying than ‘More hands make light work’ and last year we had lots of helpers so we got through everything very quickly. \n
URL:https://dayboroponyclub.com.au/event/dayboro-show-set-up/
LOCATION:Dayboro Showgrounds
END:VEVENT
END:VCALENDAR